BEGIN:VCALENDAR
VERSION:2.0
PRODID:-//wp-events-plugin.com//7.2.3.1//EN
TZID:Europe/Berlin
X-WR-TIMEZONE:Europe/Berlin
BEGIN:VEVENT
UID:0-140@schwertkampf-ochs.de
DTSTART;TZID=Europe/Berlin:20260627T120000
DTEND;TZID=Europe/Berlin:20260627T150000
DTSTAMP:20260424T064824Z
URL:https://www.schwertkampf-ochs.de/events/muenchen-hema-pride-bei-der-cs
 d-politparade-2026/
SUMMARY:München: „HEMA-Pride“ bei der CSD-Politparade 2026
DESCRIPTION:Am Samstag\, den 27. Juni 2026\, ist es wieder soweit: München
  erstrahlt am Christopher Street Day in allen Farben des Regenbogens und O
 chs ist mit am Start!
ATTACH;FMTTYPE=image/jpeg:https://www.schwertkampf-ochs.de/wp-content/uplo
 ads/2024/05/hema_pride.jpeg
CATEGORIES:Extern
END:VEVENT
BEGIN:VTIMEZONE
TZID:Europe/Berlin
X-LIC-LOCATION:Europe/Berlin
BEGIN:DAYLIGHT
DTSTART:20260329T030000
TZOFFSETFROM:+0100
TZOFFSETTO:+0200
TZNAME:CEST
END:DAYLIGHT
END:VTIMEZONE
END:VCALENDAR