BEGIN:VCALENDAR
VERSION:2.0
PRODID:-//wp-events-plugin.com//7.2.3.1//EN
TZID:Europe/Berlin
X-WR-TIMEZONE:Europe/Berlin
BEGIN:VEVENT
UID:0-96@schwertkampf-ochs.de
DTSTART;TZID=Europe/Berlin:20260310T190000
DTEND;TZID=Europe/Berlin:20261223T213000
DTSTAMP:20260311T091201Z
URL:https://www.schwertkampf-ochs.de/events/rapier-grundlagen-training/
SUMMARY:Rapier Training
DESCRIPTION:Grundlagen Training für spanisches Rapier\n\nTrainer: Kurt\nht
 tps://www.schwertkampf-ochs.de/blog/kurt-schweiger\n\nco. Trainer: Robert 
 + Dimitri
CATEGORIES:Ochs München
LOCATION:Abteilung München\, Dom-Pedro-Platz 2\, München\, 80637 \, Deuts
 chland
X-APPLE-STRUCTURED-LOCATION;VALUE=URI;X-ADDRESS=Dom-Pedro-Platz 2\, Münche
 n\, 80637 \, Deutschland;X-APPLE-RADIUS=100;X-TITLE=Abteilung München:geo
 :0,0
END:VEVENT
BEGIN:VTIMEZONE
TZID:Europe/Berlin
X-LIC-LOCATION:Europe/Berlin
BEGIN:STANDARD
DTSTART:20251026T020000
TZOFFSETFROM:+0200
TZOFFSETTO:+0100
TZNAME:CET
END:STANDARD
BEGIN:DAYLIGHT
DTSTART:20260329T030000
TZOFFSETFROM:+0100
TZOFFSETTO:+0200
TZNAME:CEST
END:DAYLIGHT
BEGIN:STANDARD
DTSTART:20261025T020000
TZOFFSETFROM:+0200
TZOFFSETTO:+0100
TZNAME:CET
END:STANDARD
END:VTIMEZONE
END:VCALENDAR