BEGIN:VCALENDAR
VERSION:2.0
PRODID:-//wp-events-plugin.com//7.2.3.1//EN
TZID:Europe/Berlin
X-WR-TIMEZONE:Europe/Berlin
BEGIN:VEVENT
UID:0-23@schwertkampf-ochs.de
DTSTART;TZID=Europe/Berlin;VALUE=DATE:20190525
DTEND;TZID=Europe/Berlin;VALUE=DATE:20190527
DTSTAMP:20190217T200101Z
URL:https://www.schwertkampf-ochs.de/events/seminar-meyers-fechten-am-schw
 ert/
SUMMARY:Seminar "Meyers Fechten am Schwert"
DESCRIPTION:Ende Mai ist Björn Rüther von Hammaborg zu Gast bei Indes in 
 Graz und wird dort ein zweitägiges Seminar zum Fechten nach Joachim Meyer
  geben. Der Fokus soll dabei darauf liegen\, das System Meyers kennenzuler
 nen\, ausgehend von Stand und Körperhaltung bis hin zu spezifischen Einze
 ltechniken. Ziel ist es\, aus den Beispielen des Fechtbuches ein Konzept z
 u erarbeiten\, dass eine Anpassung an die jeweilige Situation im Gefecht e
 rmöglicht.
ATTACH;FMTTYPE=image/jpeg:https://www.schwertkampf-ochs.de/wp-content/uplo
 ads/2019/02/Indes_Meyer_Seminar_2019.jpg
CATEGORIES:Extern
LOCATION:Raiffeisen Sportpark Graz\, Hüttenbrennergasse 31\, Graz\, 8010\,
  Österreich
X-APPLE-STRUCTURED-LOCATION;VALUE=URI;X-ADDRESS=Hüttenbrennergasse 31\, Gr
 az\, 8010\, Österreich;X-APPLE-RADIUS=100;X-TITLE=Raiffeisen Sportpark Gr
 az:geo:0,0
END:VEVENT
BEGIN:VTIMEZONE
TZID:Europe/Berlin
X-LIC-LOCATION:Europe/Berlin
BEGIN:DAYLIGHT
DTSTART:20190331T030000
TZOFFSETFROM:+0100
TZOFFSETTO:+0200
TZNAME:CEST
END:DAYLIGHT
END:VTIMEZONE
END:VCALENDAR